BEGIN:VCALENDAR
VERSION:2.0
PRODID:-//SCPA - ECPv6.15.17.1//NONSGML v1.0//EN
CALSCALE:GREGORIAN
METHOD:PUBLISH
X-ORIGINAL-URL:https://scpa.org.br
X-WR-CALDESC:Eventos para SCPA
REFRESH-INTERVAL;VALUE=DURATION:PT1H
X-Robots-Tag:noindex
X-PUBLISHED-TTL:PT1H
BEGIN:VTIMEZONE
TZID:America/Sao_Paulo
BEGIN:STANDARD
TZOFFSETFROM:-0300
TZOFFSETTO:-0300
TZNAME:-03
DTSTART:20200101T000000
END:STANDARD
END:VTIMEZONE
BEGIN:VEVENT
DTSTART;TZID=America/Sao_Paulo:20220427T120000
DTEND;TZID=America/Sao_Paulo:20220427T150000
DTSTAMP:20260421T142001
CREATED:20220420T191014Z
LAST-MODIFIED:20220420T191037Z
UID:3228-1651060800-1651071600@scpa.org.br
SUMMARY:Almoço em Comemoração ao Dia do Contabilista
DESCRIPTION:O Sindicato dos Contabilistas de Porto Alegre convida os Senhores a participar da Palestra Almoço ministrada por Celso Luft\, Conselheiro do CRC/RS\, tendo como tema Imposto de Renda 2022 – IMPOSTO SOLIDÁRIO.
URL:https://scpa.org.br/index.php/evento/almoco-em-comemoracao-ao-dia-do-contabilista/
ATTACH;FMTTYPE=image/png:https://scpa.org.br/wp-content/uploads/2022/04/noticia_almoco_scpa.png
END:VEVENT
BEGIN:VEVENT
DTSTART;VALUE=DATE:20220425
DTEND;VALUE=DATE:20220426
DTSTAMP:20260421T142001
CREATED:20220427T125117Z
LAST-MODIFIED:20220427T125200Z
UID:3262-1650844800-1650931199@scpa.org.br
SUMMARY:Dia do Contabilista
DESCRIPTION:
URL:https://scpa.org.br/index.php/evento/dia-do-contabilista/
ATTACH;FMTTYPE=image/jpeg:https://scpa.org.br/wp-content/uploads/2022/04/dia_do_contabilista.jpg
END:VEVENT
BEGIN:VEVENT
DTSTART;TZID=America/Sao_Paulo:20220217T170000
DTEND;TZID=America/Sao_Paulo:20220217T203000
DTSTAMP:20260421T142001
CREATED:20220216T212700Z
LAST-MODIFIED:20220216T212859Z
UID:3099-1645117200-1645129800@scpa.org.br
SUMMARY:Palestra Jantar 17/02 às 20h
DESCRIPTION:▶ Informações: 51 99913.3318 Realização: FEMICRO-RS e SINDICONTÁBIL Porto AlegreApoio: Associação Comercial de Porto Alegre – ACPA
URL:https://scpa.org.br/index.php/evento/palestra-jantar-17-02-as-20h/
ATTACH;FMTTYPE=image/jpeg:https://scpa.org.br/wp-content/uploads/2022/02/palestra_scpa-1.jpg
END:VEVENT
BEGIN:VEVENT
DTSTART;VALUE=DATE:20211123
DTEND;VALUE=DATE:20211125
DTSTAMP:20260421T142001
CREATED:20211118T234833Z
LAST-MODIFIED:20211118T234833Z
UID:2999-1637701200-1637787599@scpa.org.br
SUMMARY:Almoço de Aniversário Sindicato e Dia do Técnico em Contabilidade
DESCRIPTION:
URL:https://scpa.org.br/index.php/evento/almoco-de-aniversario-sindicato-e-dia-do-tecnico-em-contabilidade/
ATTACH;FMTTYPE=image/jpeg:https://scpa.org.br/wp-content/uploads/2021/11/foto_almoco.jpg
END:VEVENT
BEGIN:VEVENT
DTSTART;TZID=America/Sao_Paulo:20211123T110000
DTEND;TZID=America/Sao_Paulo:20211123T140000
DTSTAMP:20260421T142001
CREATED:20211118T234151Z
LAST-MODIFIED:20211118T234224Z
UID:2994-1637665200-1637676000@scpa.org.br
SUMMARY:Curso On-line Imposto de Renda Pessoa Física\, Renda Variável e Criptoativos  Copy
DESCRIPTION:Inscreva-se pelo link \nhttps://www.cursoslefisc.com.br/inscricao.aspx?cod=2638  \nVAGAS LIMITADAS!
URL:https://scpa.org.br/index.php/evento/curso-on-line-imposto-de-renda-pessoa-fisica-renda-variavel-e-criptoativos-copy/
END:VEVENT
BEGIN:VEVENT
DTSTART;TZID=America/Sao_Paulo:20211123T060000
DTEND;TZID=America/Sao_Paulo:20211123T090000
DTSTAMP:20260421T142001
CREATED:20211118T234140Z
LAST-MODIFIED:20211118T234140Z
UID:2991-1637647200-1637658000@scpa.org.br
SUMMARY:Curso On-line Imposto de Renda Pessoa Física\, Renda Variável e Criptoativos
DESCRIPTION:Inscreva-se pelo link \nhttps://www.cursoslefisc.com.br/inscricao.aspx?cod=2638  \nVAGAS LIMITADAS!
URL:https://scpa.org.br/index.php/evento/curso-on-line-imposto-de-renda-pessoa-fisica-renda-variavel-e-criptoativos/
END:VEVENT
BEGIN:VEVENT
DTSTART;VALUE=DATE:20211031
DTEND;VALUE=DATE:20211103
DTSTAMP:20260421T142001
CREATED:20211030T000052Z
LAST-MODIFIED:20211030T000052Z
UID:2956-1635714000-1635886799@scpa.org.br
SUMMARY:Recesso de Feriado de Finados
DESCRIPTION:
URL:https://scpa.org.br/index.php/evento/recesso-de-feriado-de-finados/
END:VEVENT
BEGIN:VEVENT
DTSTART;VALUE=DATE:20211026
DTEND;VALUE=DATE:20211029
DTSTAMP:20260421T142001
CREATED:20211020T221158Z
LAST-MODIFIED:20211020T221158Z
UID:2942-1635282000-1635454799@scpa.org.br
SUMMARY:Curso sobre os Aspectos Jurídicos na Responsabilização do Contador
DESCRIPTION:
URL:https://scpa.org.br/index.php/evento/curso-sobre-os-aspectos-juridicos-na-responsabilizacao-do-contador/
END:VEVENT
BEGIN:VEVENT
DTSTART;VALUE=DATE:20210921
DTEND;VALUE=DATE:20210923
DTSTAMP:20260421T142001
CREATED:20211020T220528Z
LAST-MODIFIED:20211025T205710Z
UID:2940-1632258000-1632344399@scpa.org.br
SUMMARY:Dia do Contador
DESCRIPTION:
URL:https://scpa.org.br/index.php/evento/dia-do-contador/
ATTACH;FMTTYPE=image/jpeg:https://scpa.org.br/wp-content/uploads/2021/10/1-1.jpg
END:VEVENT
BEGIN:VEVENT
DTSTART;TZID=America/Sao_Paulo:20210921T210000
DTEND;TZID=America/Sao_Paulo:20210922T130000
DTSTAMP:20260421T142001
CREATED:20210923T012152Z
LAST-MODIFIED:20210923T012152Z
UID:2522-1632258000-1632315600@scpa.org.br
SUMMARY:Reunião Almoço com Palestra sobre LGPD
DESCRIPTION:
URL:https://scpa.org.br/index.php/evento/reuniao-almoco-com-palestra-sobre-lgpd/
END:VEVENT
END:VCALENDAR